BEGIN:VCALENDAR
VERSION:2.0
PRODID:-//Chattanooga School for the Arts &amp; Sciences - ECPv6.15.20//NONSGML v1.0//EN
CALSCALE:GREGORIAN
METHOD:PUBLISH
X-WR-CALNAME:Chattanooga School for the Arts &amp; Sciences
X-ORIGINAL-URL:https://csask12.staging.hcde.org
X-WR-CALDESC:Events for Chattanooga School for the Arts &amp; Sciences
REFRESH-INTERVAL;VALUE=DURATION:PT1H
X-Robots-Tag:noindex
X-PUBLISHED-TTL:PT1H
BEGIN:VTIMEZONE
TZID:America/New_York
BEGIN:DAYLIGHT
TZOFFSETFROM:-0500
TZOFFSETTO:-0400
TZNAME:EDT
DTSTART:20250309T070000
END:DAYLIGHT
BEGIN:STANDARD
TZOFFSETFROM:-0400
TZOFFSETTO:-0500
TZNAME:EST
DTSTART:20251102T060000
END:STANDARD
BEGIN:DAYLIGHT
TZOFFSETFROM:-0500
TZOFFSETTO:-0400
TZNAME:EDT
DTSTART:20260308T070000
END:DAYLIGHT
BEGIN:STANDARD
TZOFFSETFROM:-0400
TZOFFSETTO:-0500
TZNAME:EST
DTSTART:20261101T060000
END:STANDARD
BEGIN:DAYLIGHT
TZOFFSETFROM:-0500
TZOFFSETTO:-0400
TZNAME:EDT
DTSTART:20270314T070000
END:DAYLIGHT
BEGIN:STANDARD
TZOFFSETFROM:-0400
TZOFFSETTO:-0500
TZNAME:EST
DTSTART:20271107T060000
END:STANDARD
END:VTIMEZONE
BEGIN:VEVENT
DTSTART;TZID=America/New_York:20260306T163000
DTEND;TZID=America/New_York:20260306T173000
DTSTAMP:20260424T070147
CREATED:20260221T023036Z
LAST-MODIFIED:20260221T023036Z
UID:10000062-1772814600-1772818200@csask12.staging.hcde.org
SUMMARY:MS Baseball vs. Lookout Valley
DESCRIPTION:
URL:https://csask12.staging.hcde.org/event/ms-baseball-vs-lookout-valley/
END:VEVENT
BEGIN:VEVENT
DTSTART;TZID=America/New_York:20260306T181500
DTEND;TZID=America/New_York:20260306T191500
DTSTAMP:20260424T070147
CREATED:20260223T023419Z
LAST-MODIFIED:20260223T023419Z
UID:10000123-1772820900-1772824500@csask12.staging.hcde.org
SUMMARY:HS Soccer vs. McMinn City in Cleveland Tournament
DESCRIPTION:
URL:https://csask12.staging.hcde.org/event/hs-soccer-vs-mcminn-city-in-cleveland-tournament/
LOCATION:Walker Valley High School
END:VEVENT
END:VCALENDAR